BEGIN:VCALENDAR
VERSION:2.0
PRODID:-//Capilano Tennis Club - ECPv6.15.20//NONSGML v1.0//EN
CALSCALE:GREGORIAN
METHOD:PUBLISH
X-ORIGINAL-URL:https://capilanotennis.ca
X-WR-CALDESC:Events for Capilano Tennis Club
REFRESH-INTERVAL;VALUE=DURATION:PT1H
X-Robots-Tag:noindex
X-PUBLISHED-TTL:PT1H
BEGIN:VTIMEZONE
TZID:America/Edmonton
BEGIN:DAYLIGHT
TZOFFSETFROM:-0700
TZOFFSETTO:-0600
TZNAME:MDT
DTSTART:20250309T090000
END:DAYLIGHT
BEGIN:STANDARD
TZOFFSETFROM:-0600
TZOFFSETTO:-0700
TZNAME:MST
DTSTART:20251102T080000
END:STANDARD
BEGIN:DAYLIGHT
TZOFFSETFROM:-0700
TZOFFSETTO:-0600
TZNAME:MDT
DTSTART:20260308T090000
END:DAYLIGHT
BEGIN:STANDARD
TZOFFSETFROM:-0600
TZOFFSETTO:-0700
TZNAME:MST
DTSTART:20261101T080000
END:STANDARD
BEGIN:DAYLIGHT
TZOFFSETFROM:-0700
TZOFFSETTO:-0600
TZNAME:MDT
DTSTART:20270314T090000
END:DAYLIGHT
BEGIN:STANDARD
TZOFFSETFROM:-0600
TZOFFSETTO:-0700
TZNAME:MST
DTSTART:20271107T080000
END:STANDARD
END:VTIMEZONE
BEGIN:VEVENT
DTSTART;TZID=America/Edmonton:20260511T180000
DTEND;TZID=America/Edmonton:20260615T184500
DTSTAMP:20260421T141941
CREATED:20260308T184141Z
LAST-MODIFIED:20260311T195211Z
UID:10000053-1778522400-1781549100@capilanotennis.ca
SUMMARY:ADULT LESSON - L1-511M6 - MEMBERS ONLY
DESCRIPTION:Adult Group Lessons\nLevel 1 (Novice) -Monday Evenings\nMembers Only\nThese Novice Group Lessons for Members ONLY begin on Monday\, May 11th\, 2026. Lessons will continue on each Monday over a 6-week period. The cost for this group of Adult Lessons is $75 for Capilano Tennis Club members only. Enrollment will be capped at 8 participants. \nThese Level 1 lessons are designed for people who have limited tennis experience and will focus on the basics of singles and doubles play and on the fundamental technical tennis skills: grip\, setup\, impact point\, hitting zone and recovery. \nThis course will be led by a certified instructor with the Tennis Professional Association. \nLOGIN AND CLICK FOR TICKET
URL:https://capilanotennis.ca/events/adult-lesson-l1-511m6-members-only/
LOCATION:Capilano Tennis Club\, 10810 54th Street\, Edmonton\, ALBERTA\, T6A 2H9\, Canada
CATEGORIES:Adult Lessons
ATTACH;FMTTYPE=image/jpeg:https://capilanotennis.ca/wp-content/uploads/Adult-Tennis-Lessons2-1.jpg
END:VEVENT
BEGIN:VEVENT
DTSTART;TZID=America/Edmonton:20260511T180000
DTEND;TZID=America/Edmonton:20260615T184500
DTSTAMP:20260421T141941
CREATED:20260308T214502Z
LAST-MODIFIED:20260311T195301Z
UID:10000050-1778522400-1781549100@capilanotennis.ca
SUMMARY:ADULT LESSON - L2-511M6 - MEMBERS ONLY
DESCRIPTION:Adult Group Lessons\nLevel 2 (Intermediate) – Monday Evenings\nMembers Only\nThese Intermediate Group Lessons for Members ONLY begin on Tuesday\, May 11\, 2026. Lessons will continue on each Tuesday over a 6-week period. The cost for this group of Adult Lessons will be $75 for Capilano Tennis Club members only. Enrollment will be capped at 8 participants. \nThese lessons are designed for people who have some previous tennis experience and are able to rally somewhat consistently. They will review technique for each of the primary strokes (forehand and backhand groundstroke\, volley\, serve and overhead smash)\, but will focus mainly on rallying situations\, point construction\, and general tactics. \nCLICK FOR FULL LESSON DETAILSLOGIN AND CLICK FOR TICKET
URL:https://capilanotennis.ca/events/adult-lesson-l2-511m6-members-only/
LOCATION:Capilano Tennis Club\, 10810 54th Street\, Edmonton\, ALBERTA\, T6A 2H9\, Canada
CATEGORIES:Adult Lessons
ATTACH;FMTTYPE=image/jpeg:https://capilanotennis.ca/wp-content/uploads/Adult-Tennis-Lessons2-1.jpg
END:VEVENT
BEGIN:VEVENT
DTSTART;TZID=America/Edmonton:20260511T190000
DTEND;TZID=America/Edmonton:20260615T194500
DTSTAMP:20260421T141941
CREATED:20260308T152121Z
LAST-MODIFIED:20260311T201144Z
UID:10000059-1778526000-1781552700@capilanotennis.ca
SUMMARY:ADULT LESSON - L3-511M7 - MEMBERS ONLY
DESCRIPTION:Adult Group Lessons\nLevel 3 (Advanced) – Monday Evenings\nMembers Only\nThese Advanced Group Lessons for members only begin on Monday\, May 11\, 2026. Lessons will continue on each Monday over a 6-week period. The cost for this group of Adult Lessons will be $75 for Capilano Tennis Club members only. Enrollment will be capped at 8 participants. \nOverview: \nAn intensive\, performance-focused program for experienced players ready to convert strong fundamentals into match-winning patterns. Training blends high-rep technical work\, live-ball pressure drills\, tactical decision-making\, and competitive simulation to deliver measurable gains in singles and doubles play. \nPrerequisites: \n\nIntended for advanced players (e.g.\, NTRP >=4.0–5.0 or equivalent).\nConsistent rallying under pace; comfortable with topspin/slice\, directional control\, and basic patterns.\nPhysically prepared for high-intensity movement and point play.\n\nCLICK FOR FULL LESSON DETAILSLOGIN AND CLICK FOR TICKET
URL:https://capilanotennis.ca/events/adult-lesson-l3-511m7-members-only/
LOCATION:Capilano Tennis Club\, 10810 54th Street\, Edmonton\, ALBERTA\, T6A 2H9\, Canada
CATEGORIES:Adult Lessons
ATTACH;FMTTYPE=image/jpeg:https://capilanotennis.ca/wp-content/uploads/Adult-Tennis-Lessons2-1.jpg
END:VEVENT
BEGIN:VEVENT
DTSTART;TZID=America/Edmonton:20260511T190000
DTEND;TZID=America/Edmonton:20260615T194500
DTSTAMP:20260421T141941
CREATED:20260308T183210Z
LAST-MODIFIED:20260312T164245Z
UID:10000045-1778526000-1781552700@capilanotennis.ca
SUMMARY:ADULT LESSON - L2-511M7 - MEMBERS ONLY
DESCRIPTION:Adult Group Lessons\nLevel 2 (Intermediate) – Monday Evenings\nMembers Only\nThese Intermediate Group Lessons for members only will begin on Monday\, May 11\, 2026. Lessons will continue on each Monday over a 6-week period. The cost for this group of Adult Lessons will be $75 for Capilano Tennis Club members only. Enrollment will be capped at 8 participants. \nThese lessons are designed for people who have some previous tennis experience and are able to rally somewhat consistently. They will review technique for each of the primary strokes (forehand and backhand groundstroke\, volley\, serve and overhead smash)\, but will focus mainly on rallying situations\, point construction\, and general tactics. \nCLICK FOR FULL LESSON DETAILSLOGIN AND CLICK FOR TICKET
URL:https://capilanotennis.ca/events/adult-lesson-l2-511m7-members-only/
LOCATION:Capilano Tennis Club\, 10810 54th Street\, Edmonton\, ALBERTA\, T6A 2H9\, Canada
CATEGORIES:Adult Lessons
ATTACH;FMTTYPE=image/jpeg:https://capilanotennis.ca/wp-content/uploads/Adult-Tennis-Lessons2-1.jpg
END:VEVENT
BEGIN:VEVENT
DTSTART;TZID=America/Edmonton:20260512T180000
DTEND;TZID=America/Edmonton:20260616T184500
DTSTAMP:20260421T141941
CREATED:20260308T091609Z
LAST-MODIFIED:20260311T192808Z
UID:10000041-1778608800-1781635500@capilanotennis.ca
SUMMARY:ADULT LESSON - L1-512T6
DESCRIPTION:Adult Group Lessons\nLevel 1 (Novice) -Tuesday Evenings\nThese Novice Group Lessons begin on Tuesday\, May 12\, 2026. Lessons will continue on each Tuesday over a 6-week period. The cost for this group of Adult Lessons will be $90 for non-members and $75 for Capilano Tennis Club members. Enrollment will be capped at 8 participants. \nThese Level 1 lessons are designed for people who have limited tennis experience and will focus on the basics of singles and doubles play and on the fundamental technical tennis skills: grip\, setup\, impact point\, hitting zone and recovery.
URL:https://capilanotennis.ca/events/adult-lesson-l1-512t6/
LOCATION:Capilano Tennis Club\, 10810 54th Street\, Edmonton\, ALBERTA\, T6A 2H9\, Canada
CATEGORIES:Adult Lessons
ATTACH;FMTTYPE=image/jpeg:https://capilanotennis.ca/wp-content/uploads/Adult-Tennis-Lessons2-1.jpg
END:VEVENT
BEGIN:VEVENT
DTSTART;TZID=America/Edmonton:20260512T190000
DTEND;TZID=America/Edmonton:20260616T194500
DTSTAMP:20260421T141941
CREATED:20260305T153514Z
LAST-MODIFIED:20260311T193249Z
UID:10000057-1778612400-1781639100@capilanotennis.ca
SUMMARY:ADULT LESSON - L2-512T7
DESCRIPTION:Adult Group Lessons\nLevel 2 (Intermediate) -Tuesday Evenings\nThese Intermediate Group Lessons begin on Tuesday\, May 12\, 2026. Lessons will continue on each Tuesday over a 6-week period. The cost for this group of Adult Lessons will be $90 for non-members and $75 for Capilano Tennis Club members. Enrollment will be capped at 8 participants. \nThese lessons are designed for people who have some previous tennis experience and are able to rally somewhat consistently. They will review technique for each of the primary strokes (forehand and backhand groundstroke\, volley\, serve and overhead smash)\, but will focus mainly on rallying situations\, point construction\, and general tactics.
URL:https://capilanotennis.ca/events/adult-lesson-l2-512t7/
LOCATION:Capilano Tennis Club\, 10810 54th Street\, Edmonton\, ALBERTA\, T6A 2H9\, Canada
CATEGORIES:Adult Lessons
ATTACH;FMTTYPE=image/jpeg:https://capilanotennis.ca/wp-content/uploads/Adult-Tennis-Lessons2-1.jpg
END:VEVENT
BEGIN:VEVENT
DTSTART;TZID=America/Edmonton:20260513T180000
DTEND;TZID=America/Edmonton:20260617T184500
DTSTAMP:20260421T141941
CREATED:20260308T093945Z
LAST-MODIFIED:20260311T193427Z
UID:10000042-1778695200-1781721900@capilanotennis.ca
SUMMARY:ADULT LESSON - L1-513W6
DESCRIPTION:Adult Group Lessons\nLevel 1 (Novice) -Wednesday Evenings\nThese Novice Group Lessons begin on Wednesday\, May 13\, 2026. Lessons will continue on each Wednesday over a 6-week period. The cost for this group of Adult Lessons will be $90 for non-members and $75 for Capilano Tennis Club members. Enrollment will be capped at 8 participants. \nThese Level 1 lessons are designed for people who have limited tennis experience and will focus on the basics of singles and doubles play and on the fundamental technical tennis skills: grip\, setup\, impact point\, hitting zone and recovery.
URL:https://capilanotennis.ca/events/adult-lesson-l1-513w6/
LOCATION:Capilano Tennis Club\, 10810 54th Street\, Edmonton\, ALBERTA\, T6A 2H9\, Canada
CATEGORIES:Adult Lessons
ATTACH;FMTTYPE=image/jpeg:https://capilanotennis.ca/wp-content/uploads/Adult-Tennis-Lessons2-1.jpg
END:VEVENT
BEGIN:VEVENT
DTSTART;TZID=America/Edmonton:20260513T190000
DTEND;TZID=America/Edmonton:20260617T194500
DTSTAMP:20260421T141941
CREATED:20260308T185646Z
LAST-MODIFIED:20260311T193637Z
UID:10000046-1778698800-1781725500@capilanotennis.ca
SUMMARY:ADULT LESSON - L2-513W7
DESCRIPTION:Adult Group Lessons\nLevel 2 (Intermediate) -Wednesday Evenings\nThese Intermediate Group Lessons begin on Wednesday\, May 13\, 2026. Lessons will continue on each Wednesday over a 6-week period. The cost for this group of Adult Lessons will be $90 for non-members and $75 for Capilano Tennis Club members. Enrollment will be capped at 8 participants. \nThese lessons are designed for people who have some previous tennis experience and are able to rally somewhat consistently. They will review technique for each of the primary strokes (forehand and backhand groundstroke\, volley\, serve and overhead smash)\, but will focus mainly on rallying situations\, point construction\, and general tactics.
URL:https://capilanotennis.ca/events/adult-lesson-l2-513w7/
LOCATION:Capilano Tennis Club\, 10810 54th Street\, Edmonton\, ALBERTA\, T6A 2H9\, Canada
CATEGORIES:Adult Lessons
ATTACH;FMTTYPE=image/jpeg:https://capilanotennis.ca/wp-content/uploads/Adult-Tennis-Lessons2-1.jpg
END:VEVENT
BEGIN:VEVENT
DTSTART;TZID=America/Edmonton:20260706T180000
DTEND;TZID=America/Edmonton:20260810T184500
DTSTAMP:20260421T141941
CREATED:20260308T090157Z
LAST-MODIFIED:20260311T200127Z
UID:10000049-1783360800-1786387500@capilanotennis.ca
SUMMARY:ADULT LESSON - L1-76M6 - MEMBERS ONLY
DESCRIPTION:Adult Group Lessons\nLevel 1 (Novice) – Monday Evenings\nMembers Only\nThese Novice Group Lessons for members only begin on Monday\, July 6\, 2026. Lessons will continue on each Monday over a 6-week period. The cost for this group of Adult Lessons will be $75 for Capilano Tennis Club members only. Enrollment will be capped at 8 participants. \nThese Level 1 lessons are designed for people who have limited tennis experience and will focus on the basics of singles and doubles play and on the fundamental technical tennis skills: grip\, setup\, impact point\, hitting zone and recovery. \nLOGIN AND CLICK FOR TICKET
URL:https://capilanotennis.ca/events/adult-lesson-l1-76m6-members-only/
LOCATION:Capilano Tennis Club\, 10810 54th Street\, Edmonton\, ALBERTA\, T6A 2H9\, Canada
CATEGORIES:Adult Lessons
ATTACH;FMTTYPE=image/jpeg:https://capilanotennis.ca/wp-content/uploads/Adult-Tennis-Lessons2-1.jpg
END:VEVENT
BEGIN:VEVENT
DTSTART;TZID=America/Edmonton:20260706T180000
DTEND;TZID=America/Edmonton:20260810T184500
DTSTAMP:20260421T141941
CREATED:20260308T185759Z
LAST-MODIFIED:20260311T200302Z
UID:10000055-1783360800-1786387500@capilanotennis.ca
SUMMARY:ADULT LESSON - L2-76M6 - MEMBERS ONLY
DESCRIPTION:Adult Group Lessons\nLevel 2 (Intermediate) – Monday Evenings\nMembers Only\nThese Intermediate Group Lessons for members only begin on Monday\, July 6\, 2026. Lessons will continue on each Monday over a 6-week period. The cost for this group of Adult Lessons will be $75 for Capilano Tennis Club members only. Enrollment will be capped at 8 participants. \nThese lessons are designed for people who have some previous tennis experience and are able to rally somewhat consistently. They will review technique for each of the primary strokes (forehand and backhand groundstroke\, volley\, serve and overhead smash)\, but will focus mainly on rallying situations\, point construction\, and general tactics. \nCLICK FOR FULL LESSON DETAILSLOGIN AND CLICK FOR TICKET
URL:https://capilanotennis.ca/events/adult-lesson-l2-76m6-members-only/
LOCATION:Capilano Tennis Club\, 10810 54th Street\, Edmonton\, ALBERTA\, T6A 2H9\, Canada
CATEGORIES:Adult Lessons
ATTACH;FMTTYPE=image/jpeg:https://capilanotennis.ca/wp-content/uploads/Adult-Tennis-Lessons2-1.jpg
END:VEVENT
BEGIN:VEVENT
DTSTART;TZID=America/Edmonton:20260706T190000
DTEND;TZID=America/Edmonton:20260810T194500
DTSTAMP:20260421T141941
CREATED:20260305T160858Z
LAST-MODIFIED:20260311T200614Z
UID:10000058-1783364400-1786391100@capilanotennis.ca
SUMMARY:ADULT LESSON - L2-76M7 - MEMBERS ONLY
DESCRIPTION:Adult Group Lessons\nLevel 2 (Intermediate) – Monday Evenings\nMembers Only\nThese Intermediate Group Lessons for members only begin on Monday\, July 6\, 2026. Lessons will continue on each Monday over a 6-week period. The cost for this group of Adult Lessons will be $75 for Capilano Tennis Club members only. Enrollment will be capped at 8 participants. \nThese lessons are designed for people who have some previous tennis experience and are able to rally somewhat consistently. They will review technique for each of the primary strokes (forehand and backhand groundstroke\, volley\, serve and overhead smash)\, but will focus mainly on rallying situations\, point construction\, and general tactics. \nCLICK FOR FULL LESSON DETAILSLOGIN AND CLICK FOR TICKET
URL:https://capilanotennis.ca/events/adult-lesson-l2-76m7-members-only/
LOCATION:Capilano Tennis Club\, 10810 54th Street\, Edmonton\, ALBERTA\, T6A 2H9\, Canada
CATEGORIES:Adult Lessons
ATTACH;FMTTYPE=image/jpeg:https://capilanotennis.ca/wp-content/uploads/Adult-Tennis-Lessons2-1.jpg
END:VEVENT
BEGIN:VEVENT
DTSTART;TZID=America/Edmonton:20260706T190000
DTEND;TZID=America/Edmonton:20260810T194500
DTSTAMP:20260421T141941
CREATED:20260305T162526Z
LAST-MODIFIED:20260311T200758Z
UID:10000060-1783364400-1786391100@capilanotennis.ca
SUMMARY:ADULT LESSON - L3-76M7 - MEMBERS ONLY
DESCRIPTION:Adult Group Lessons\nLevel 3 (Advanced) – Monday Evenings\nMembers Only\nThese Advanced Group Lessons for members only begin on Monday\, July 6th\, 2026. Lessons will continue on each Monday over a 6-week period. The cost for this group of Adult Lessons will be $75 for Capilano Tennis Club members only. Enrollment will be capped at 8 participants. \nOverview: \nAn intensive\, performance-focused program for experienced players ready to convert strong fundamentals into match-winning patterns. Training blends high-rep technical work\, live-ball pressure drills\, tactical decision-making\, and competitive simulation to deliver measurable gains in singles and doubles play. \nPrerequisites: \n\nIntended for advanced players (e.g.\, NTRP >=4.0–5.0 or equivalent).\nConsistent rallying under pace; comfortable with topspin/slice\, directional control\, and basic patterns.\nPhysically prepared for high-intensity movement and point play.\n\nCLICK FOR FULL LESSON DETAILSLOGIN AND CLICK FOR TICKET
URL:https://capilanotennis.ca/events/adult-lesson-l3-76m7-members-only/
LOCATION:Capilano Tennis Club\, 10810 54th Street\, Edmonton\, ALBERTA\, T6A 2H9\, Canada
CATEGORIES:Adult Lessons
ATTACH;FMTTYPE=image/jpeg:https://capilanotennis.ca/wp-content/uploads/Adult-Tennis-Lessons2-1.jpg
END:VEVENT
BEGIN:VEVENT
DTSTART;TZID=America/Edmonton:20260707T180000
DTEND;TZID=America/Edmonton:20260811T184500
DTSTAMP:20260421T141941
CREATED:20260308T191423Z
LAST-MODIFIED:20260311T193842Z
UID:10000047-1783447200-1786473900@capilanotennis.ca
SUMMARY:ADULT LESSON - L2-77T6
DESCRIPTION:Adult Group Lessons\nLevel 2 (Intermediate) -Tuesday Evenings\nThese Intermediate Group Lessons begin on Tuesday\, July 7\, 2026. Lessons will continue on each Tuesday over a 6-week period. The cost for this group of Adult Lessons will be $90 for non-members and $75 for Capilano Tennis Club members. Enrollment will be capped at 8 participants. \nThese lessons are designed for people who have some previous tennis experience and are able to rally somewhat consistently. They will review technique for each of the primary strokes (forehand and backhand groundstroke\, volley\, serve and overhead smash)\, but will focus mainly on rallying situations\, point construction\, and general tactics.
URL:https://capilanotennis.ca/events/adult-lesson-l2-77t6/
LOCATION:Capilano Tennis Club\, 10810 54th Street\, Edmonton\, ALBERTA\, T6A 2H9\, Canada
CATEGORIES:Adult Lessons
ATTACH;FMTTYPE=image/jpeg:https://capilanotennis.ca/wp-content/uploads/Adult-Tennis-Lessons2-1.jpg
END:VEVENT
BEGIN:VEVENT
DTSTART;TZID=America/Edmonton:20260707T190000
DTEND;TZID=America/Edmonton:20260811T194500
DTSTAMP:20260421T141941
CREATED:20260308T155531Z
LAST-MODIFIED:20260311T194035Z
UID:10000043-1783450800-1786477500@capilanotennis.ca
SUMMARY:ADULT LESSON - L1-77T7
DESCRIPTION:Adult Group Lessons\nLevel 1 (Novice) -Tuesday Evenings\nThese Novice Group Lessons begin on Tuesday\, July 7\, 2026. Lessons will continue on each Tuesday over a 6-week period. The cost for this group of Adult Lessons will be $90 for non-members and $75 for Capilano Tennis Club members. Enrollment will be capped at 8 participants. \nThese Level 1 lessons are designed for people who have limited tennis experience and will focus on the basics of singles and doubles play and on the fundamental technical tennis skills: grip\, setup\, impact point\, hitting zone and recovery.
URL:https://capilanotennis.ca/events/adult-lesson-l1-77t7/
LOCATION:Capilano Tennis Club\, 10810 54th Street\, Edmonton\, ALBERTA\, T6A 2H9\, Canada
CATEGORIES:Adult Lessons
ATTACH;FMTTYPE=image/jpeg:https://capilanotennis.ca/wp-content/uploads/Adult-Tennis-Lessons2-1.jpg
END:VEVENT
BEGIN:VEVENT
DTSTART;TZID=America/Edmonton:20260708T180000
DTEND;TZID=America/Edmonton:20260812T184500
DTSTAMP:20260421T141941
CREATED:20260308T192349Z
LAST-MODIFIED:20260312T185547Z
UID:10000048-1783533600-1786560300@capilanotennis.ca
SUMMARY:ADULT LESSON L2-78W6
DESCRIPTION:Adult Group Lessons\nLevel 2 (Intermediate) – Wednesday Evenings\nThese Intermediate Group Lessons begin on Wednesday\, July 8\, 2026. Lessons will continue on each Wednesday over a 6-week period. The cost for this group of Adult Lessons will be $90 for non-members and $75 for Capilano Tennis Club members. Enrollment will be capped at 8 participants. \nThese lessons are designed for people who have some previous tennis experience and are able to rally somewhat consistently. They will review technique for each of the primary strokes (forehand and backhand groundstroke\, volley\, serve and overhead smash)\, but will focus mainly on rallying situations\, point construction\, and general tactics.
URL:https://capilanotennis.ca/events/adult-lesson-l2-78w6/
LOCATION:Capilano Tennis Club\, 10810 54th Street\, Edmonton\, ALBERTA\, T6A 2H9\, Canada
CATEGORIES:Adult Lessons
ATTACH;FMTTYPE=image/jpeg:https://capilanotennis.ca/wp-content/uploads/Adult-Tennis-Lessons2-1.jpg
END:VEVENT
BEGIN:VEVENT
DTSTART;TZID=America/Edmonton:20260708T190000
DTEND;TZID=America/Edmonton:20260812T194500
DTSTAMP:20260421T141941
CREATED:20250115T170608Z
LAST-MODIFIED:20260310T141803Z
UID:10000044-1783537200-1786563900@capilanotennis.ca
SUMMARY:ADULT LESSON - L1-78W7
DESCRIPTION:Adult Group Lessons\nLevel 1 (Novice) -Wednesday Evenings\nThese Novice Group Lessons begin on Wednesday\, July 8\, 2026. Lessons will continue on each Wednesday over a 6-week period. The cost for this group of Adult Lessons will be $90 for non-members and $75 for Capilano Tennis Club members. Enrollment will be capped at 8 participants. \nThese Level 1 lessons are designed for people who have limited tennis experience and will focus on the basics of singles and doubles play and on the fundamental technical tennis skills: grip\, setup\, impact point\, hitting zone and recovery.
URL:https://capilanotennis.ca/events/adult-lesson-l1-78w7/
LOCATION:Capilano Tennis Club\, 10810 54th Street\, Edmonton\, ALBERTA\, T6A 2H9\, Canada
CATEGORIES:Adult Lessons
ATTACH;FMTTYPE=image/jpeg:https://capilanotennis.ca/wp-content/uploads/Adult-Tennis-Lessons2-1.jpg
END:VEVENT
END:VCALENDAR